BEGIN:VCALENDAR
VERSION:2.0
PRODID:-//wp-events-plugin.com//7.2.2.1//EN
BEGIN:VEVENT
UID:15@singalongsingers.nl
DTSTART;TZID=Europe/Amsterdam:20260708T200000
DTEND;TZID=Europe/Amsterdam:20260708T220000
DTSTAMP:20260424T113651Z
URL:https://singalongsingers.nl/events/zomerstop/
SUMMARY:Informele muziekavond met Ringfield
DESCRIPTION:Op woendag 8 juli is er tijdens de laatste repetitie voor de zo
 mervakantie een informele muziekavond samen met Vocalgroup Ringfield uit B
 elfeld. Deze muziekale avond begint om 20.00 uur en is bij de Schakel in R
 euver.\n\nDe zomerstop van het koor loopt parallel aan de zomervakantie va
 n de basisscholen. De eerste repetitie is weer op 26 augustus 2026.
LOCATION:https://maps.app.goo.gl/cEjAF17QJkDSjGHu5
END:VEVENT
BEGIN:VTIMEZONE
TZID:Europe/Amsterdam
X-LIC-LOCATION:Europe/Amsterdam
BEGIN:DAYLIGHT
DTSTART:20260329T030000
TZOFFSETFROM:+0100
TZOFFSETTO:+0200
TZNAME:CEST
END:DAYLIGHT
END:VTIMEZONE
END:VCALENDAR